BEGIN:VCALENDAR
VERSION:2.0
PRODID:-//LaunchBox - ECPv6.15.20//NONSGML v1.0//EN
CALSCALE:GREGORIAN
METHOD:PUBLISH
X-ORIGINAL-URL:https://athenslaunchbox.com
X-WR-CALDESC:Events for LaunchBox
REFRESH-INTERVAL;VALUE=DURATION:PT1H
X-Robots-Tag:noindex
X-PUBLISHED-TTL:PT1H
BEGIN:VTIMEZONE
TZID:America/Chicago
BEGIN:DAYLIGHT
TZOFFSETFROM:-0600
TZOFFSETTO:-0500
TZNAME:CDT
DTSTART:20240310T080000
END:DAYLIGHT
BEGIN:STANDARD
TZOFFSETFROM:-0500
TZOFFSETTO:-0600
TZNAME:CST
DTSTART:20241103T070000
END:STANDARD
BEGIN:DAYLIGHT
TZOFFSETFROM:-0600
TZOFFSETTO:-0500
TZNAME:CDT
DTSTART:20250309T080000
END:DAYLIGHT
BEGIN:STANDARD
TZOFFSETFROM:-0500
TZOFFSETTO:-0600
TZNAME:CST
DTSTART:20251102T070000
END:STANDARD
BEGIN:DAYLIGHT
TZOFFSETFROM:-0600
TZOFFSETTO:-0500
TZNAME:CDT
DTSTART:20260308T080000
END:DAYLIGHT
BEGIN:STANDARD
TZOFFSETFROM:-0500
TZOFFSETTO:-0600
TZNAME:CST
DTSTART:20261101T070000
END:STANDARD
END:VTIMEZONE
BEGIN:VEVENT
DTSTART;TZID=America/Chicago:20251106T100000
DTEND;TZID=America/Chicago:20251106T110000
DTSTAMP:20260421T102357
CREATED:20251020T132414Z
LAST-MODIFIED:20251020T132613Z
UID:1482-1762423200-1762426800@athenslaunchbox.com
SUMMARY:Wealth & Business Building Seminar
DESCRIPTION:Join us at LaunchBox on Thursday\, November 6 at 10 AM for a no-cost\, one-hour session designed to help you take a holistic approach to building and protecting your wealth. Learn from local experts Sarah Simpson of Accounting Solutions\, Emily Young of Emily Young Law\, and Jacob Hardy of Eagle Creek Wealth Management as they share practical strategies for tax and estate planning\, investment management\, and financial growth for both individuals and businesses.
URL:https://athenslaunchbox.com/events/1482/
LOCATION:LaunchBox\, 121 South Marion St.\, Athens\, AL\, 35611\, United States
END:VEVENT
BEGIN:VEVENT
DTSTART;TZID=America/Chicago:20251106T180000
DTEND;TZID=America/Chicago:20251106T200000
DTSTAMP:20260421T102357
CREATED:20250902T184652Z
LAST-MODIFIED:20251031T131032Z
UID:1417-1762452000-1762459200@athenslaunchbox.com
SUMMARY:RampUP Workshop Series - Business Plan Essentials
DESCRIPTION:  \n \nDiscover how to create a powerful business plan that clearly defines your vision\, strategy\, and path to success. This workshop will guide you step-by-step in building a roadmap to achieve your goals and attract potential investors or partners. Perfect for entrepreneurs at any stage! Ready to RampUP? Register Now!  \n 
URL:https://athenslaunchbox.com/events/rampup-workshop-series-business-plan-essentials-2/
LOCATION:LaunchBox\, 121 South Marion St.\, Athens\, AL\, 35611\, United States
CATEGORIES:RampUP
END:VEVENT
BEGIN:VEVENT
DTSTART;TZID=America/Chicago:20251110T080000
DTEND;TZID=America/Chicago:20251110T170000
DTSTAMP:20260421T102357
CREATED:20250624T191552Z
LAST-MODIFIED:20250624T191552Z
UID:1325-1762761600-1762794000@athenslaunchbox.com
SUMMARY:Servsafe Manager Training
DESCRIPTION:One-day training and certification for the food service industry\, including restaurant\, daycare\, nursing home\, and hospital workers. \nThis course blends the latest FDA Food Code\, food safety research\, and years of food sanitation training experience. Managers learn to implement essential food safety practices and create a culture of food safety. ServSafe is accredited by the American National Standards Institute (ANSI)-Conference for Food Protection (CFP). \nRegister Today! \n 
URL:https://athenslaunchbox.com/events/servsafe-manager-training-28/
LOCATION:LaunchBox\, 121 South Marion St.\, Athens\, AL\, 35611\, United States
CATEGORIES:ServSafe
END:VEVENT
BEGIN:VEVENT
DTSTART;TZID=America/Chicago:20251113T180000
DTEND;TZID=America/Chicago:20251113T200000
DTSTAMP:20260421T102357
CREATED:20250902T190023Z
LAST-MODIFIED:20251031T131138Z
UID:1419-1763056800-1763064000@athenslaunchbox.com
SUMMARY:RampUP Workshop Series - Market Research
DESCRIPTION:Learn effective techniques to identify market opportunities\, understand your target audience\, and gain a competitive edge. This workshop will equip you with the tools to make informed business decisions and stay ahead in your industry. Ready to RampUP? Register Now!  \n 
URL:https://athenslaunchbox.com/events/rampup-workshop-series-market-research-2/
LOCATION:LaunchBox\, 121 South Marion St.\, Athens\, AL\, 35611\, United States
CATEGORIES:RampUP
END:VEVENT
BEGIN:VEVENT
DTSTART;TZID=America/Chicago:20251118T180000
DTEND;TZID=America/Chicago:20251118T200000
DTSTAMP:20260421T102357
CREATED:20251013T190023Z
LAST-MODIFIED:20251013T190107Z
UID:1472-1763488800-1763496000@athenslaunchbox.com
SUMMARY:NASHRM Limestone County Membership Mixer
DESCRIPTION:Join the North Alabama Society for Human Resource Management (NASHRM) Limestone County Satellite for an evening of networking\, learning\, and community connection. \nThis Membership Mixer is the perfect opportunity to: \n\nLearn more about NASHRM and local membership benefits\nNetwork with HR professionals and community leaders\nDiscover ways to get involved and make an impact\nExplore how NASHRM supports HR professionals in Limestone County\n\n👉RSVP here! 
URL:https://athenslaunchbox.com/events/nashrm-limestone-county-membership-mixer/
LOCATION:LaunchBox\, 121 South Marion St.\, Athens\, AL\, 35611\, United States
CATEGORIES:ScaleUP
END:VEVENT
BEGIN:VEVENT
DTSTART;TZID=America/Chicago:20251120T180000
DTEND;TZID=America/Chicago:20251120T200000
DTSTAMP:20260421T102357
CREATED:20250902T190219Z
LAST-MODIFIED:20251031T131118Z
UID:1421-1763661600-1763668800@athenslaunchbox.com
SUMMARY:RampUP Workshop Series - Business Finance
DESCRIPTION:Build a strong foundation in financial management with this workshop. Learn essential skills like budgeting\, forecasting\, and making informed financial decisions to ensure the success and growth of your business. Perfect for entrepreneurs looking to strengthen their financial acumen! Ready to RampUP? Register Now!  \n 
URL:https://athenslaunchbox.com/events/rampup-workshop-series-business-finance-2/
LOCATION:LaunchBox\, 121 South Marion St.\, Athens\, AL\, 35611\, United States
CATEGORIES:RampUP
END:VEVENT
BEGIN:VEVENT
DTSTART;TZID=America/Chicago:20251124T080000
DTEND;TZID=America/Chicago:20251124T170000
DTSTAMP:20260421T102357
CREATED:20250624T192023Z
LAST-MODIFIED:20250624T192023Z
UID:1341-1763971200-1764003600@athenslaunchbox.com
SUMMARY:Servsafe Manager Training - Decatur
DESCRIPTION:One-day training and certification for the food service industry\, including restaurant\, daycare\, nursing home\, and hospital workers. \nThis course blends the latest FDA Food Code\, food safety research\, and years of food sanitation training experience. Managers learn to implement essential food safety practices and create a culture of food safety. ServSafe is accredited by the American National Standards Institute (ANSI)-Conference for Food Protection (CFP). \nRegister Today! \n 
URL:https://athenslaunchbox.com/events/servsafe-manager-training-decatur-9/
LOCATION:Alabama Center for the Arts\, 133 2nd Avenue Northeast\, Decatur\, AL\, 35601\, United States
CATEGORIES:ServSafe
END:VEVENT
END:VCALENDAR