BEGIN:VCALENDAR
VERSION:2.0
PRODID:-//LaunchBox - ECPv6.15.20//NONSGML v1.0//EN
CALSCALE:GREGORIAN
METHOD:PUBLISH
X-WR-CALNAME:LaunchBox
X-ORIGINAL-URL:https://athenslaunchbox.com
X-WR-CALDESC:Events for LaunchBox
REFRESH-INTERVAL;VALUE=DURATION:PT1H
X-Robots-Tag:noindex
X-PUBLISHED-TTL:PT1H
BEGIN:VTIMEZONE
TZID:America/Chicago
BEGIN:DAYLIGHT
TZOFFSETFROM:-0600
TZOFFSETTO:-0500
TZNAME:CDT
DTSTART:20240310T080000
END:DAYLIGHT
BEGIN:STANDARD
TZOFFSETFROM:-0500
TZOFFSETTO:-0600
TZNAME:CST
DTSTART:20241103T070000
END:STANDARD
BEGIN:DAYLIGHT
TZOFFSETFROM:-0600
TZOFFSETTO:-0500
TZNAME:CDT
DTSTART:20250309T080000
END:DAYLIGHT
BEGIN:STANDARD
TZOFFSETFROM:-0500
TZOFFSETTO:-0600
TZNAME:CST
DTSTART:20251102T070000
END:STANDARD
BEGIN:DAYLIGHT
TZOFFSETFROM:-0600
TZOFFSETTO:-0500
TZNAME:CDT
DTSTART:20260308T080000
END:DAYLIGHT
BEGIN:STANDARD
TZOFFSETFROM:-0500
TZOFFSETTO:-0600
TZNAME:CST
DTSTART:20261101T070000
END:STANDARD
END:VTIMEZONE
BEGIN:VEVENT
DTSTART;TZID=America/Chicago:20250811T080000
DTEND;TZID=America/Chicago:20250811T170000
DTSTAMP:20260421T145941
CREATED:20250624T191329Z
LAST-MODIFIED:20250624T191329Z
UID:1313-1754899200-1754931600@athenslaunchbox.com
SUMMARY:Servsafe Manager Training
DESCRIPTION:One-day training and certification for the food service industry\, including restaurant\, daycare\, nursing home\, and hospital workers. \nThis course blends the latest FDA Food Code\, food safety research\, and years of food sanitation training experience. Managers learn to implement essential food safety practices and create a culture of food safety. ServSafe is accredited by the American National Standards Institute (ANSI)-Conference for Food Protection (CFP). \nRegister Today! \n 
URL:https://athenslaunchbox.com/events/servsafe-manager-training-24/
LOCATION:LaunchBox\, 121 South Marion St.\, Athens\, AL\, 35611\, United States
CATEGORIES:ServSafe
END:VEVENT
BEGIN:VEVENT
DTSTART;TZID=America/Chicago:20250812T160000
DTEND;TZID=America/Chicago:20250812T180000
DTSTAMP:20260421T145941
CREATED:20250804T131623Z
LAST-MODIFIED:20250804T131623Z
UID:1376-1755014400-1755021600@athenslaunchbox.com
SUMMARY:Cottage Food Law Training & Certification Course
DESCRIPTION:This course meets ADPH requirement to operate as a Cottage Food Operation. You will learn specifics about the Law\, allowed foods to sell\, how foods can be sold\, labeling requirements\, food safety recommendations\, and basic food processing for allowed products. There is a $25\, non-refundable fee that will cover the cost of your certification. Secure your seat now! \nThe Alabama Cooperative Extension System (Alabama A&M University and Auburn University) is an equal opportunity educator\, employer\, and provider. If you need a reasonable accommodation or free language access services\, contact Susan Hill at 205-489-5376 or hillaps@auburn.edu by 8/5/2025
URL:https://athenslaunchbox.com/events/cottage-food-law-training-certification-course/
LOCATION:LaunchBox\, 121 South Marion St.\, Athens\, AL\, 35611\, United States
CATEGORIES:ScaleUP
END:VEVENT
BEGIN:VEVENT
DTSTART;TZID=America/Chicago:20250819T170000
DTEND;TZID=America/Chicago:20250819T190000
DTSTAMP:20260421T145941
CREATED:20250804T204028Z
LAST-MODIFIED:20250804T204028Z
UID:1383-1755622800-1755630000@athenslaunchbox.com
SUMMARY:Young Professionals of Athens-Limestone County: Mind Matters
DESCRIPTION:Young professionals are facing unparalleled mental health challenges\, with record-high rates of burnout\, anxiety\, and depression impacting their well-being and work performance.\nDiscover tips to thrive through your emotional intelligence during this YP Athens panel featuring:\n– Morgan Todd Dean\, a Nurse Practitioner specializing in Mental Health– Susan Claborn from Athens-Limestone Hospital\n\nWe’ll also be joined by two special guests:– Maple\, Athens-Limestone Hospital\, emotional support animal (ESA)– Deputy Charlie\, Limestone County Sheriff’s Office service dog\nThank you to our partners for this event: Limestone County Sheriff’s Office\, The Launchbox at Athens State University\, and Athens-Limestone Hospital.\n\nA special thanks to our wonderful sponsors:– RoofTech Solutions– Beth Medley\, Realtor— Keller Williams– Athens State University/The LaunchBox– Lucia’s Cocina Mexicana\n\nThis event is no-cost\, and registration will occur on-site. Click the ticket link for more info on YP Athens!
URL:https://athenslaunchbox.com/events/young-professionals-of-athens-limestone-county-mind-matters/
LOCATION:LaunchBox\, 121 South Marion St.\, Athens\, AL\, 35611\, United States
CATEGORIES:ScaleUP
END:VEVENT
BEGIN:VEVENT
DTSTART;TZID=America/Chicago:20250820T113000
DTEND;TZID=America/Chicago:20250820T123000
DTSTAMP:20260421T145941
CREATED:20250716T211134Z
LAST-MODIFIED:20250804T130635Z
UID:1365-1755689400-1755693000@athenslaunchbox.com
SUMMARY:NASHRM-Limestone Co Satellite August Meeting
DESCRIPTION:In this session titled “Emotionally Triggered…Now What?”\, you’ll learn to identify emotional triggers\, respond with clarity\, and build a culture of trust. \nCost is $25 for members and $25 for non-members. \nRegistrations after the cut-off date may be available on a limited basis.  To be considered\, please contact the VP of Programs to see if seats are available; if so\, you may register and attend.  These registrations will be handled on a first-come\, first-served basis. \nRegister now! 
URL:https://athenslaunchbox.com/events/nashrm-limestone-co-satellite-july-meeting-2/
LOCATION:LaunchBox\, 121 South Marion St.\, Athens\, AL\, 35611\, United States
CATEGORIES:ScaleUP
END:VEVENT
BEGIN:VEVENT
DTSTART;TZID=America/Chicago:20250825T080000
DTEND;TZID=America/Chicago:20250825T170000
DTSTAMP:20260421T145941
CREATED:20250624T191744Z
LAST-MODIFIED:20250624T191744Z
UID:1331-1756108800-1756141200@athenslaunchbox.com
SUMMARY:Servsafe Manager Training - Decatur
DESCRIPTION:One-day training and certification for the food service industry\, including restaurant\, daycare\, nursing home\, and hospital workers. \nThis course blends the latest FDA Food Code\, food safety research\, and years of food sanitation training experience. Managers learn to implement essential food safety practices and create a culture of food safety. ServSafe is accredited by the American National Standards Institute (ANSI)-Conference for Food Protection (CFP). \nRegister Today! \n 
URL:https://athenslaunchbox.com/events/servsafe-manager-training-decatur-6/
LOCATION:Alabama Center for the Arts\, 133 2nd Avenue Northeast\, Decatur\, AL\, 35601\, United States
CATEGORIES:ServSafe
END:VEVENT
END:VCALENDAR