BEGIN:VCALENDAR
VERSION:2.0
PRODID:-//LaunchBox - ECPv6.15.20//NONSGML v1.0//EN
CALSCALE:GREGORIAN
METHOD:PUBLISH
X-WR-CALNAME:LaunchBox
X-ORIGINAL-URL:https://athenslaunchbox.com
X-WR-CALDESC:Events for LaunchBox
REFRESH-INTERVAL;VALUE=DURATION:PT1H
X-Robots-Tag:noindex
X-PUBLISHED-TTL:PT1H
BEGIN:VTIMEZONE
TZID:America/Chicago
BEGIN:DAYLIGHT
TZOFFSETFROM:-0600
TZOFFSETTO:-0500
TZNAME:CDT
DTSTART:20240310T080000
END:DAYLIGHT
BEGIN:STANDARD
TZOFFSETFROM:-0500
TZOFFSETTO:-0600
TZNAME:CST
DTSTART:20241103T070000
END:STANDARD
BEGIN:DAYLIGHT
TZOFFSETFROM:-0600
TZOFFSETTO:-0500
TZNAME:CDT
DTSTART:20250309T080000
END:DAYLIGHT
BEGIN:STANDARD
TZOFFSETFROM:-0500
TZOFFSETTO:-0600
TZNAME:CST
DTSTART:20251102T070000
END:STANDARD
BEGIN:DAYLIGHT
TZOFFSETFROM:-0600
TZOFFSETTO:-0500
TZNAME:CDT
DTSTART:20260308T080000
END:DAYLIGHT
BEGIN:STANDARD
TZOFFSETFROM:-0500
TZOFFSETTO:-0600
TZNAME:CST
DTSTART:20261101T070000
END:STANDARD
END:VTIMEZONE
BEGIN:VEVENT
DTSTART;TZID=America/Chicago:20250402T090000
DTEND;TZID=America/Chicago:20250402T100000
DTSTAMP:20260420T095429
CREATED:20250217T203211Z
LAST-MODIFIED:20250217T203211Z
UID:1185-1743584400-1743588000@athenslaunchbox.com
SUMMARY:Breakfast & Biz
DESCRIPTION:Start your day with meaningful connections at Breakfast & Biz hosted by the Athens-Limestone Chamber of Commerce. Join fellow entrepreneurs\, business leaders\, and community members for networking\, insights\, and opportunities to grow your business. This event provides a platform to share ideas\, build partnerships\, and learn from the vibrant business community in Athens\, Alabama. Don’t forget to bring plenty of business cards and kickstart your morning with inspiration and collaboration! Secure your seat now! 
URL:https://athenslaunchbox.com/event/breakfast-biz-5/
LOCATION:LaunchBox\, 121 South Marion St.\, Athens\, AL\, 35611\, United States
CATEGORIES:Breakfast & Biz
END:VEVENT
BEGIN:VEVENT
DTSTART;TZID=America/Chicago:20250411T120000
DTEND;TZID=America/Chicago:20250411T130000
DTSTAMP:20260420T095429
CREATED:20250320T201550Z
LAST-MODIFIED:20250320T201550Z
UID:1239-1744372800-1744376400@athenslaunchbox.com
SUMMARY:ScaleUP Workshop: Unlock the Power of Strategic HR
DESCRIPTION:Join us on April 11th at Noon for an insightful HR Strategy Workshop\, hosted by Rocket City HR Consulting. Designed for business leaders\, small business owners\, and HR professionals\, this session will explore how to align HR initiatives with business goals\, build a strong company culture\, manage talent effectively\, and plan for long-term growth. Walk away with expert insights and actionable strategies to strengthen your HR approach and drive success. Secure your seat now! \n \n 
URL:https://athenslaunchbox.com/event/scaleup-workshop-unlock-the-power-of-strategic-hr/
LOCATION:LaunchBox\, 121 South Marion St.\, Athens\, AL\, 35611\, United States
CATEGORIES:ScaleUP
END:VEVENT
BEGIN:VEVENT
DTSTART;TZID=America/Chicago:20250414T080000
DTEND;TZID=America/Chicago:20250414T170000
DTSTAMP:20260420T095429
CREATED:20241202T171138Z
LAST-MODIFIED:20250207T201819Z
UID:989-1744617600-1744650000@athenslaunchbox.com
SUMMARY:Servsafe Manager Training
DESCRIPTION:One-day training and certification for the food service industry\, including restaurant\, daycare\, nursing home\, and hospital workers. \nThis course blends the latest FDA Food Code\, food safety research\, and years of food sanitation training experience. Managers learn to implement essential food safety practices and create a culture of food safety. ServSafe is accredited by the American National Standards Institute (ANSI)-Conference for Food Protection (CFP). \nRegister Today! \n 
URL:https://athenslaunchbox.com/event/servsafe-manager-training-21/
LOCATION:LaunchBox\, 121 South Marion St.\, Athens\, AL\, 35611\, United States
CATEGORIES:ServSafe
END:VEVENT
BEGIN:VEVENT
DTSTART;TZID=America/Chicago:20250416T113000
DTEND;TZID=America/Chicago:20250416T123000
DTSTAMP:20260420T095429
CREATED:20250317T151745Z
LAST-MODIFIED:20250317T151745Z
UID:1229-1744803000-1744806600@athenslaunchbox.com
SUMMARY:Limestone County Satellite NASHRM April Meeting
DESCRIPTION:
URL:https://athenslaunchbox.com/event/limestone-county-satellite-nashrm-april-meeting/
LOCATION:LaunchBox\, 121 South Marion St.\, Athens\, AL\, 35611\, United States
END:VEVENT
BEGIN:VEVENT
DTSTART;TZID=America/Chicago:20250428T080000
DTEND;TZID=America/Chicago:20250428T170000
DTSTAMP:20260420T095429
CREATED:20250127T152332Z
LAST-MODIFIED:20250207T201751Z
UID:1135-1745827200-1745859600@athenslaunchbox.com
SUMMARY:Servsafe Manager Training - Decatur
DESCRIPTION:One-day training and certification for the food service industry\, including restaurant\, daycare\, nursing home\, and hospital workers. \nThis course blends the latest FDA Food Code\, food safety research\, and years of food sanitation training experience. Managers learn to implement essential food safety practices and create a culture of food safety. ServSafe is accredited by the American National Standards Institute (ANSI)-Conference for Food Protection (CFP). \nRegister Today! \n 
URL:https://athenslaunchbox.com/event/servsafe-manager-training-decatur-3/
LOCATION:Alabama Center for the Arts\, 133 2nd Avenue Northeast\, Decatur\, AL\, 35601\, United States
CATEGORIES:ServSafe
END:VEVENT
END:VCALENDAR