BEGIN:VCALENDAR
VERSION:2.0
PRODID:-//LaunchBox - ECPv6.15.20//NONSGML v1.0//EN
CALSCALE:GREGORIAN
METHOD:PUBLISH
X-WR-CALNAME:LaunchBox
X-ORIGINAL-URL:https://athenslaunchbox.com
X-WR-CALDESC:Events for LaunchBox
REFRESH-INTERVAL;VALUE=DURATION:PT1H
X-Robots-Tag:noindex
X-PUBLISHED-TTL:PT1H
BEGIN:VTIMEZONE
TZID:America/Chicago
BEGIN:DAYLIGHT
TZOFFSETFROM:-0600
TZOFFSETTO:-0500
TZNAME:CDT
DTSTART:20240310T080000
END:DAYLIGHT
BEGIN:STANDARD
TZOFFSETFROM:-0500
TZOFFSETTO:-0600
TZNAME:CST
DTSTART:20241103T070000
END:STANDARD
BEGIN:DAYLIGHT
TZOFFSETFROM:-0600
TZOFFSETTO:-0500
TZNAME:CDT
DTSTART:20250309T080000
END:DAYLIGHT
BEGIN:STANDARD
TZOFFSETFROM:-0500
TZOFFSETTO:-0600
TZNAME:CST
DTSTART:20251102T070000
END:STANDARD
BEGIN:DAYLIGHT
TZOFFSETFROM:-0600
TZOFFSETTO:-0500
TZNAME:CDT
DTSTART:20260308T080000
END:DAYLIGHT
BEGIN:STANDARD
TZOFFSETFROM:-0500
TZOFFSETTO:-0600
TZNAME:CST
DTSTART:20261101T070000
END:STANDARD
END:VTIMEZONE
BEGIN:VEVENT
DTSTART;TZID=America/Chicago:20250306T200000
DTEND;TZID=America/Chicago:20250306T200000
DTSTAMP:20260420T081630
CREATED:20250116T171024Z
LAST-MODIFIED:20250116T181722Z
UID:1098-1741291200-1741291200@athenslaunchbox.com
SUMMARY:RampUP Workshop Series - Time Management
DESCRIPTION:Master practical time management strategies to enhance productivity\, stay organized\, and achieve a healthy work-life balance. This workshop is designed to help you prioritize effectively and make the most of your time\, both personally and professionally. Ready to RampUP? Register Now!
URL:https://athenslaunchbox.com/event/rampup-workshop-series-time-management/
LOCATION:LaunchBox\, 121 South Marion St.\, Athens\, AL\, 35611\, United States
CATEGORIES:RampUP
END:VEVENT
BEGIN:VEVENT
DTSTART;TZID=America/Chicago:20250310T080000
DTEND;TZID=America/Chicago:20250310T170000
DTSTAMP:20260420T081630
CREATED:20241202T171121Z
LAST-MODIFIED:20250207T201926Z
UID:986-1741593600-1741626000@athenslaunchbox.com
SUMMARY:Servsafe Manager Training
DESCRIPTION:One-day training and certification for the food service industry\, including restaurant\, daycare\, nursing home\, and hospital workers. \nThis course blends the latest FDA Food Code\, food safety research\, and years of food sanitation training experience. Managers learn to implement essential food safety practices and create a culture of food safety. ServSafe is accredited by the American National Standards Institute (ANSI)-Conference for Food Protection (CFP). \nRegister Today! \n 
URL:https://athenslaunchbox.com/event/servsafe-manager-training-20/
LOCATION:LaunchBox\, 121 South Marion St.\, Athens\, AL\, 35611\, United States
CATEGORIES:ServSafe
END:VEVENT
BEGIN:VEVENT
DTSTART;TZID=America/Chicago:20250314T120000
DTEND;TZID=America/Chicago:20250314T130000
DTSTAMP:20260420T081630
CREATED:20250217T152026Z
LAST-MODIFIED:20250311T125838Z
UID:1176-1741953600-1741957200@athenslaunchbox.com
SUMMARY:ScaleUP Workshop: Employee Retention w/ Rocket City HR Consulting
DESCRIPTION:Join Rocket City HR Consulting for an insightful Lunch & Learn on Employee Retention. With March being Employee Appreciation Month\, this workshop will explore effective strategies to keep your team engaged\, motivated\, and committed to your organization. \nThis session is ideal for business owners\, managers\, and HR professionals looking to strengthen their workforce and improve retention. Lunch will be provided. Don’t miss this opportunity to invest in your team. Secure your seat now!
URL:https://athenslaunchbox.com/event/lunch-learn-employee-retention-w-rocket-city-hr-consulting/
LOCATION:LaunchBox\, 121 South Marion St.\, Athens\, AL\, 35611\, United States
CATEGORIES:ScaleUP
END:VEVENT
BEGIN:VEVENT
DTSTART;TZID=America/Chicago:20250317T140000
DTEND;TZID=America/Chicago:20250317T150000
DTSTAMP:20260420T081630
CREATED:20250313T154208Z
LAST-MODIFIED:20250313T154208Z
UID:1222-1742220000-1742223600@athenslaunchbox.com
SUMMARY:Community Action Partnership: Community Council Meeting
DESCRIPTION:
URL:https://athenslaunchbox.com/event/community-action-partnership-community-council-meeting-2/
LOCATION:LaunchBox\, 121 South Marion St.\, Athens\, AL\, 35611\, United States
END:VEVENT
BEGIN:VEVENT
DTSTART;TZID=America/Chicago:20250318T120000
DTEND;TZID=America/Chicago:20250318T130000
DTSTAMP:20260420T081630
CREATED:20250220T141801Z
LAST-MODIFIED:20250311T125811Z
UID:1197-1742299200-1742302800@athenslaunchbox.com
SUMMARY:ScaleUP Workshop: Triple Threat Marketing
DESCRIPTION:Our expert speakers—Blake Williams\, Lottie Partridge\, and Carina Farr—bring a wealth of experience in branding\, communication\, and business growth. They’ll each reveal three powerful strategies that can help small businesses boost their reach\, refine their messaging\, and drive results. \nDon’t miss this opportunity to gain practical\, real-world insights and connect with other business owners and entrepreneurs looking to elevate their marketing game. Secure your seat now! 
URL:https://athenslaunchbox.com/event/lunch-learn-triple-threat-marketing/
LOCATION:AL
CATEGORIES:ScaleUP
END:VEVENT
BEGIN:VEVENT
DTSTART;TZID=America/Chicago:20250324T080000
DTEND;TZID=America/Chicago:20250324T170000
DTSTAMP:20260420T081630
CREATED:20250127T152155Z
LAST-MODIFIED:20250207T201842Z
UID:1127-1742803200-1742835600@athenslaunchbox.com
SUMMARY:Servsafe Manager Training - Decatur
DESCRIPTION:One-day training and certification for the food service industry\, including restaurant\, daycare\, nursing home\, and hospital workers. \nThis course blends the latest FDA Food Code\, food safety research\, and years of food sanitation training experience. Managers learn to implement essential food safety practices and create a culture of food safety. ServSafe is accredited by the American National Standards Institute (ANSI)-Conference for Food Protection (CFP). \nRegister Today! \n 
URL:https://athenslaunchbox.com/event/servsafe-manager-training-decatur-2/
LOCATION:Alabama Center for the Arts\, 133 2nd Avenue Northeast\, Decatur\, AL\, 35601\, United States
CATEGORIES:ServSafe
END:VEVENT
END:VCALENDAR