BEGIN:VCALENDAR
VERSION:2.0
PRODID:-//LaunchBox - ECPv6.15.20//NONSGML v1.0//EN
CALSCALE:GREGORIAN
METHOD:PUBLISH
X-WR-CALNAME:LaunchBox
X-ORIGINAL-URL:https://athenslaunchbox.com
X-WR-CALDESC:Events for LaunchBox
REFRESH-INTERVAL;VALUE=DURATION:PT1H
X-Robots-Tag:noindex
X-PUBLISHED-TTL:PT1H
BEGIN:VTIMEZONE
TZID:America/Chicago
BEGIN:DAYLIGHT
TZOFFSETFROM:-0600
TZOFFSETTO:-0500
TZNAME:CDT
DTSTART:20230312T080000
END:DAYLIGHT
BEGIN:STANDARD
TZOFFSETFROM:-0500
TZOFFSETTO:-0600
TZNAME:CST
DTSTART:20231105T070000
END:STANDARD
BEGIN:DAYLIGHT
TZOFFSETFROM:-0600
TZOFFSETTO:-0500
TZNAME:CDT
DTSTART:20240310T080000
END:DAYLIGHT
BEGIN:STANDARD
TZOFFSETFROM:-0500
TZOFFSETTO:-0600
TZNAME:CST
DTSTART:20241103T070000
END:STANDARD
BEGIN:DAYLIGHT
TZOFFSETFROM:-0600
TZOFFSETTO:-0500
TZNAME:CDT
DTSTART:20250309T080000
END:DAYLIGHT
BEGIN:STANDARD
TZOFFSETFROM:-0500
TZOFFSETTO:-0600
TZNAME:CST
DTSTART:20251102T070000
END:STANDARD
END:VTIMEZONE
BEGIN:VEVENT
DTSTART;TZID=America/Chicago:20240708T080000
DTEND;TZID=America/Chicago:20240708T170000
DTSTAMP:20260420T113100
CREATED:20240611T130223Z
LAST-MODIFIED:20240611T130223Z
UID:560-1720425600-1720458000@athenslaunchbox.com
SUMMARY:Servsafe Manager Training
DESCRIPTION:One-day training and certification for the food service industry\, including restaurant\, daycare\, nursing home\, and hospital workers. \nThis course blends the latest FDA Food Code\, food safety research\, and years of food sanitation training experience. Managers learn to implement essential food safety practices and create a culture of food safety. Servsafe is accredited by the American National Standards Institute (ANSI)-Conference for Food Protection (CFP). \nRegister Today! \n 
URL:https://athenslaunchbox.com/event/servsafe-manager-training-12/
LOCATION:LaunchBox\, 121 South Marion St.\, Athens\, AL\, 35611\, United States
CATEGORIES:ServSafe
END:VEVENT
BEGIN:VEVENT
DTSTART;TZID=America/Chicago:20240711T163000
DTEND;TZID=America/Chicago:20240711T183000
DTSTAMP:20260420T113100
CREATED:20240620T155820Z
LAST-MODIFIED:20240620T174243Z
UID:600-1720715400-1720722600@athenslaunchbox.com
SUMMARY:Small Business Summit
DESCRIPTION:When: July 11th\, 2024 \nWhere: Launchbox at Athens State University\n121 S Marion St\, Athens\, AL 35611 \nTime: 4:30PM – 6:30PM \nThis come-and-go event will feature speaker John Lovelace of American Graffiti and Art. Join us to celebrate the success of our entrepreneurs\, provide feedback for future resources\, and enjoy light refreshments\, live music\, and a captivating art installation rendered by local artist Gail Bergeron. Secure your spot here! 
URL:https://athenslaunchbox.com/event/summit/
LOCATION:LaunchBox\, 121 South Marion St.\, Athens\, AL\, 35611\, United States
CATEGORIES:Special Event
END:VEVENT
BEGIN:VEVENT
DTSTART;TZID=America/Chicago:20240718T120000
DTEND;TZID=America/Chicago:20240718T133000
DTSTAMP:20260420T113100
CREATED:20240705T212225Z
LAST-MODIFIED:20240709T135422Z
UID:645-1721304000-1721309400@athenslaunchbox.com
SUMMARY:Lunch & Learn: Understanding Credit
DESCRIPTION:  \n \nUnlock the secrets of the credit system in this informative 50-minute class. Whether you’re just starting out or looking to improve your financial health\, “Understanding Credit” will guide you through the essentials of how the credit system works and its impact on your life. Learn how to effectively manage\, build\, and protect your credit with practical strategies and expert insights. \nThis class is perfect for anyone wanting to control their financial future by understanding and improving their credit. Whether new to credit or looking to boost your score\, this session offers valuable insights and practical advice to help you achieve your financial goals. Lunch is provided. Secure your seat now!
URL:https://athenslaunchbox.com/event/creditworkshop/
LOCATION:LaunchBox\, 121 South Marion St.\, Athens\, AL\, 35611\, United States
CATEGORIES:ScaleUP
END:VEVENT
BEGIN:VEVENT
DTSTART;TZID=America/Chicago:20240722T080000
DTEND;TZID=America/Chicago:20240722T170000
DTSTAMP:20260420T113100
CREATED:20240611T125658Z
LAST-MODIFIED:20240611T125658Z
UID:546-1721635200-1721667600@athenslaunchbox.com
SUMMARY:Servsafe Manager Training
DESCRIPTION:One-day training and certification for the food service industry\, including restaurant\, daycare\, nursing home\, and hospital workers. \nThis course blends the latest FDA Food Code\, food safety research\, and years of food sanitation training experience. Managers learn to implement essential food safety practices and create a culture of food safety. Servsafe is accredited by the American National Standards Institute (ANSI)-Conference for Food Protection (CFP). \nRegister Today! \n 
URL:https://athenslaunchbox.com/event/servsafe-manager-training-8/
LOCATION:Alabama Center for the Arts\, 133 2nd Avenue Northeast\, Decatur\, AL\, 35601\, United States
CATEGORIES:ServSafe
END:VEVENT
BEGIN:VEVENT
DTSTART;TZID=America/Chicago:20240723T090000
DTEND;TZID=America/Chicago:20240723T110000
DTSTAMP:20260420T113100
CREATED:20240523T150404Z
LAST-MODIFIED:20240606T182025Z
UID:509-1721725200-1721732400@athenslaunchbox.com
SUMMARY:Breakfast & Biz
DESCRIPTION:When: July 23\, 2024 \nWhere: Launchbox at Athens State University\n121 S Marion St\, Athens\, AL 35611 \nTime: 9:00 AM
URL:https://athenslaunchbox.com/event/breakfast-biz-2/
LOCATION:LaunchBox\, 121 South Marion St.\, Athens\, AL\, 35611\, United States
CATEGORIES:Breakfast & Biz
END:VEVENT
END:VCALENDAR