BEGIN:VCALENDAR
VERSION:2.0
PRODID:-//LaunchBox - ECPv6.15.20//NONSGML v1.0//EN
CALSCALE:GREGORIAN
METHOD:PUBLISH
X-WR-CALNAME:LaunchBox
X-ORIGINAL-URL:https://athenslaunchbox.com
X-WR-CALDESC:Events for LaunchBox
REFRESH-INTERVAL;VALUE=DURATION:PT1H
X-Robots-Tag:noindex
X-PUBLISHED-TTL:PT1H
BEGIN:VTIMEZONE
TZID:America/Chicago
BEGIN:DAYLIGHT
TZOFFSETFROM:-0600
TZOFFSETTO:-0500
TZNAME:CDT
DTSTART:20230312T080000
END:DAYLIGHT
BEGIN:STANDARD
TZOFFSETFROM:-0500
TZOFFSETTO:-0600
TZNAME:CST
DTSTART:20231105T070000
END:STANDARD
BEGIN:DAYLIGHT
TZOFFSETFROM:-0600
TZOFFSETTO:-0500
TZNAME:CDT
DTSTART:20240310T080000
END:DAYLIGHT
BEGIN:STANDARD
TZOFFSETFROM:-0500
TZOFFSETTO:-0600
TZNAME:CST
DTSTART:20241103T070000
END:STANDARD
BEGIN:DAYLIGHT
TZOFFSETFROM:-0600
TZOFFSETTO:-0500
TZNAME:CDT
DTSTART:20250309T080000
END:DAYLIGHT
BEGIN:STANDARD
TZOFFSETFROM:-0500
TZOFFSETTO:-0600
TZNAME:CST
DTSTART:20251102T070000
END:STANDARD
BEGIN:DAYLIGHT
TZOFFSETFROM:-0600
TZOFFSETTO:-0500
TZNAME:CDT
DTSTART:20260308T080000
END:DAYLIGHT
BEGIN:STANDARD
TZOFFSETFROM:-0500
TZOFFSETTO:-0600
TZNAME:CST
DTSTART:20261101T070000
END:STANDARD
END:VTIMEZONE
BEGIN:VEVENT
DTSTART;TZID=America/Chicago:20250109T090000
DTEND;TZID=America/Chicago:20250109T140000
DTSTAMP:20260420T020053
CREATED:20250102T211151Z
LAST-MODIFIED:20250102T211252Z
UID:1047-1736413200-1736431200@athenslaunchbox.com
SUMMARY:Storm Recovery Consultations w/ Alabama SBDC
DESCRIPTION:No-cost one-hour consultations are available for small businesses in Athens affected by recent storms. Heather Wright of the Alabama SBDC Network will provide expert guidance and share valuable recovery resources. Limited spots available – Sign up now!
URL:https://athenslaunchbox.com/event/storm-recovery-consultations-w-alabama-sbdc-3/
LOCATION:LaunchBox\, 121 South Marion St.\, Athens\, AL\, 35611\, United States
CATEGORIES:Special Event
END:VEVENT
BEGIN:VEVENT
DTSTART;TZID=America/Chicago:20250108T090000
DTEND;TZID=America/Chicago:20250108T140000
DTSTAMP:20260420T020053
CREATED:20250102T211136Z
LAST-MODIFIED:20250102T211328Z
UID:1044-1736326800-1736344800@athenslaunchbox.com
SUMMARY:Storm Recovery Consultations w/ Alabama SBDC
DESCRIPTION:No-cost one-hour consultations are available for small businesses in Athens affected by recent storms. Heather Wright of the Alabama SBDC Network will provide expert guidance and share valuable recovery resources. Limited spots available – Sign up now!
URL:https://athenslaunchbox.com/event/storm-recovery-consultations-w-alabama-sbdc-2/
LOCATION:LaunchBox\, 121 South Marion St.\, Athens\, AL\, 35611\, United States
CATEGORIES:Special Event
END:VEVENT
BEGIN:VEVENT
DTSTART;TZID=America/Chicago:20250107T090000
DTEND;TZID=America/Chicago:20250107T140000
DTSTAMP:20260420T020053
CREATED:20250102T210809Z
LAST-MODIFIED:20250102T211357Z
UID:1036-1736240400-1736258400@athenslaunchbox.com
SUMMARY:Storm Recovery Consultations w/ Alabama SBDC
DESCRIPTION:No-cost one-hour consultations are available for small businesses in Athens affected by recent storms. Heather Wright of the Alabama SBDC Network will provide expert guidance and share valuable recovery resources. Limited spots available – Sign up now!
URL:https://athenslaunchbox.com/event/storm-recovery-consultations-w-alabama-sbdc/
LOCATION:LaunchBox\, 121 South Marion St.\, Athens\, AL\, 35611\, United States
CATEGORIES:Special Event
END:VEVENT
BEGIN:VEVENT
DTSTART;TZID=America/Chicago:20241114T103000
DTEND;TZID=America/Chicago:20241114T113000
DTSTAMP:20260420T020053
CREATED:20241021T140554Z
LAST-MODIFIED:20241108T193728Z
UID:890-1731580200-1731583800@athenslaunchbox.com
SUMMARY:Symphony in the City
DESCRIPTION:Join us on November 14th at 10 AM for “Symphony in the City” at LaunchBox\, located on the square in downtown Athens. This exciting event\, presented by the Huntsville Symphony Orchestra\, brings the beauty of classical music to the heart of the city. Enjoy a morning filled with live orchestral performances\, bringing the community together through the power of music. This is a unique opportunity to experience the talents of world-class musicians in a vibrant local setting\, perfect for music lovers of all ages.
URL:https://athenslaunchbox.com/event/symphony-in-the-city/
LOCATION:LaunchBox\, 121 South Marion St.\, Athens\, AL\, 35611\, United States
CATEGORIES:Special Event
END:VEVENT
BEGIN:VEVENT
DTSTART;TZID=America/Chicago:20240822T170000
DTEND;TZID=America/Chicago:20240822T190000
DTSTAMP:20260420T020053
CREATED:20240815T125955Z
LAST-MODIFIED:20240815T125955Z
UID:758-1724346000-1724353200@athenslaunchbox.com
SUMMARY:Young Professionals of Athens-Limestone County Kickoff Event
DESCRIPTION:Join us for an evening of networking and connection with Young Professionals in Athens-Limestone County. Discover more about YP Athens and the incredible opportunities this groundbreaking program offers. Our mission is to enrich our community by serving others\, fostering connections\, and empowering future leaders. Whether you’re looking to make new friends\, grow personally and professionally\, or get involved in the community\, YP Athens is your gateway to the future of Athens. Register Now!
URL:https://athenslaunchbox.com/event/young-professionals-of-athens-limestone-county-kickoff-event/
LOCATION:AL
CATEGORIES:Special Event
END:VEVENT
BEGIN:VEVENT
DTSTART;TZID=America/Chicago:20240711T163000
DTEND;TZID=America/Chicago:20240711T183000
DTSTAMP:20260420T020053
CREATED:20240620T155820Z
LAST-MODIFIED:20240620T174243Z
UID:600-1720715400-1720722600@athenslaunchbox.com
SUMMARY:Small Business Summit
DESCRIPTION:When: July 11th\, 2024 \nWhere: Launchbox at Athens State University\n121 S Marion St\, Athens\, AL 35611 \nTime: 4:30PM – 6:30PM \nThis come-and-go event will feature speaker John Lovelace of American Graffiti and Art. Join us to celebrate the success of our entrepreneurs\, provide feedback for future resources\, and enjoy light refreshments\, live music\, and a captivating art installation rendered by local artist Gail Bergeron. Secure your spot here! 
URL:https://athenslaunchbox.com/event/summit/
LOCATION:LaunchBox\, 121 South Marion St.\, Athens\, AL\, 35611\, United States
CATEGORIES:Special Event
END:VEVENT
END:VCALENDAR