BEGIN:VCALENDAR
VERSION:2.0
PRODID:-//LaunchBox - ECPv6.15.20//NONSGML v1.0//EN
CALSCALE:GREGORIAN
METHOD:PUBLISH
X-WR-CALNAME:LaunchBox
X-ORIGINAL-URL:https://athenslaunchbox.com
X-WR-CALDESC:Events for LaunchBox
REFRESH-INTERVAL;VALUE=DURATION:PT1H
X-Robots-Tag:noindex
X-PUBLISHED-TTL:PT1H
BEGIN:VTIMEZONE
TZID:America/Chicago
BEGIN:DAYLIGHT
TZOFFSETFROM:-0600
TZOFFSETTO:-0500
TZNAME:CDT
DTSTART:20250309T080000
END:DAYLIGHT
BEGIN:STANDARD
TZOFFSETFROM:-0500
TZOFFSETTO:-0600
TZNAME:CST
DTSTART:20251102T070000
END:STANDARD
BEGIN:DAYLIGHT
TZOFFSETFROM:-0600
TZOFFSETTO:-0500
TZNAME:CDT
DTSTART:20260308T080000
END:DAYLIGHT
BEGIN:STANDARD
TZOFFSETFROM:-0500
TZOFFSETTO:-0600
TZNAME:CST
DTSTART:20261101T070000
END:STANDARD
BEGIN:DAYLIGHT
TZOFFSETFROM:-0600
TZOFFSETTO:-0500
TZNAME:CDT
DTSTART:20270314T080000
END:DAYLIGHT
BEGIN:STANDARD
TZOFFSETFROM:-0500
TZOFFSETTO:-0600
TZNAME:CST
DTSTART:20271107T070000
END:STANDARD
END:VTIMEZONE
BEGIN:VEVENT
DTSTART;TZID=America/Chicago:20260129T180000
DTEND;TZID=America/Chicago:20260129T200000
DTSTAMP:20260420T145018
CREATED:20260112T173415Z
LAST-MODIFIED:20260127T140108Z
UID:1590-1769709600-1769716800@athenslaunchbox.com
SUMMARY:Goal Setting & Strategy Workshop
DESCRIPTION:Start the year with clarity and direction at this two-hour interactive workshop focused on goal setting and strategic planning. The session includes guided instruction followed by dedicated implementation time\, helping you turn ideas into actionable next steps for the year ahead. Participants will receive a goal brainstorm worksheet in advance to support meaningful progress. Secure your seat here. \n \n 
URL:https://athenslaunchbox.com/events/goal-setting-strategy-workshop/
LOCATION:LaunchBox\, 121 South Marion St.\, Athens\, AL\, 35611\, United States
CATEGORIES:ScaleUP
END:VEVENT
BEGIN:VEVENT
DTSTART;TZID=America/Chicago:20260217T110000
DTEND;TZID=America/Chicago:20260217T123000
DTSTAMP:20260420T145018
CREATED:20251211T163631Z
LAST-MODIFIED:20251211T164550Z
UID:1574-1771326000-1771331400@athenslaunchbox.com
SUMMARY:ScaleUP Workshop: Marketing on a Shoestring Budget
DESCRIPTION:Learn practical\, low-cost marketing strategies designed to help small businesses stand out and grow. Join us for an engaging\, hands-on session led by experienced marketing professional Vicki Morris\, founder of V. Renee Consulting\, and walk away with actionable ideas you can implement right away—no big budget required. Register now to secure your seat!
URL:https://athenslaunchbox.com/events/scaleup-workshop-marketing-on-a-shoestring-budget/
LOCATION:LaunchBox\, 121 South Marion St.\, Athens\, AL\, 35611\, United States
CATEGORIES:ScaleUP
END:VEVENT
BEGIN:VEVENT
DTSTART;TZID=America/Chicago:20260223T183000
DTEND;TZID=America/Chicago:20260223T200000
DTSTAMP:20260420T145018
CREATED:20260213T142520Z
LAST-MODIFIED:20260213T142628Z
UID:1626-1771871400-1771876800@athenslaunchbox.com
SUMMARY:DEIBA February Mocha & Mixer
DESCRIPTION:Mocha & Mixer – Bridging the Gap to the Next Level \nJoin us for an evening designed to empower entrepreneurs\, small businesses\, and community organizations through meaningful networking and collaboration. Hosted at LaunchBox at Athens State University\, this dynamic mixer creates space for connection\, conversation\, and growth. Meet local leaders\, hear from featured spotlights\, and build relationships that move your business forward. \nCome sip\, connect\, and strengthen our small business community together.
URL:https://athenslaunchbox.com/events/deiba-february-mocha-mixer/
LOCATION:LaunchBox\, 121 South Marion St.\, Athens\, AL\, 35611\, United States
CATEGORIES:ScaleUP
END:VEVENT
BEGIN:VEVENT
DTSTART;TZID=America/Chicago:20260406T183000
DTEND;TZID=America/Chicago:20260406T203000
DTSTAMP:20260420T145018
CREATED:20260330T134051Z
LAST-MODIFIED:20260330T134051Z
UID:1655-1775500200-1775507400@athenslaunchbox.com
SUMMARY:DEIBA Mocha & Mixer
DESCRIPTION:As part of the DEIBA initiative\, Mocha & Mixer events are created to help businesses grow through connection\, collaboration\, and access to resources that support long-term success. \nCome build relationships\, gain insight\, and be part of a community that’s bridging the gap to the next level.
URL:https://athenslaunchbox.com/events/deiba-mocha-mixer/
LOCATION:LaunchBox\, 121 South Marion St.\, Athens\, AL\, 35611\, United States
CATEGORIES:ScaleUP
END:VEVENT
BEGIN:VEVENT
DTSTART;TZID=America/Chicago:20260507T110000
DTEND;TZID=America/Chicago:20260507T123000
DTSTAMP:20260420T145018
CREATED:20260323T192905Z
LAST-MODIFIED:20260323T192955Z
UID:1646-1778151600-1778157000@athenslaunchbox.com
SUMMARY:ScaleUP: Canva 101 for Small Businesses
DESCRIPTION:Join us for Canva 101 for Small Businesses – a free\, casual\, and interactive workshop designed to help small business owners make the most of Canva Pro. This session will focus on branding and brand consistency\, led by Carina Farr\, Marketing Director at Ridgeline Construction\, and self-proclaimed Canva Pro. Perfect for beginners or anyone looking to enhance their design skills for business. \nDetails: \n\nDate: Thursday\, May 7th\nTime: 11:00 a.m. – 12:30 p.m.\nLocation: LaunchBox\, 121 S Marion St\, Athens\, AL 35611\nBring your lunch!\n\nRegister now to reserve your spot! \n 
URL:https://athenslaunchbox.com/events/scaleup-canva-101-for-small-businesses/
LOCATION:LaunchBox\, 121 South Marion St.\, Athens\, AL\, 35611\, United States
CATEGORIES:ScaleUP
END:VEVENT
END:VCALENDAR