BEGIN:VCALENDAR
VERSION:2.0
PRODID:-//LaunchBox - ECPv6.15.20//NONSGML v1.0//EN
CALSCALE:GREGORIAN
METHOD:PUBLISH
X-WR-CALNAME:LaunchBox
X-ORIGINAL-URL:https://athenslaunchbox.com
X-WR-CALDESC:Events for LaunchBox
REFRESH-INTERVAL;VALUE=DURATION:PT1H
X-Robots-Tag:noindex
X-PUBLISHED-TTL:PT1H
BEGIN:VTIMEZONE
TZID:America/Chicago
BEGIN:DAYLIGHT
TZOFFSETFROM:-0600
TZOFFSETTO:-0500
TZNAME:CDT
DTSTART:20240310T080000
END:DAYLIGHT
BEGIN:STANDARD
TZOFFSETFROM:-0500
TZOFFSETTO:-0600
TZNAME:CST
DTSTART:20241103T070000
END:STANDARD
BEGIN:DAYLIGHT
TZOFFSETFROM:-0600
TZOFFSETTO:-0500
TZNAME:CDT
DTSTART:20250309T080000
END:DAYLIGHT
BEGIN:STANDARD
TZOFFSETFROM:-0500
TZOFFSETTO:-0600
TZNAME:CST
DTSTART:20251102T070000
END:STANDARD
BEGIN:DAYLIGHT
TZOFFSETFROM:-0600
TZOFFSETTO:-0500
TZNAME:CDT
DTSTART:20260308T080000
END:DAYLIGHT
BEGIN:STANDARD
TZOFFSETFROM:-0500
TZOFFSETTO:-0600
TZNAME:CST
DTSTART:20261101T070000
END:STANDARD
END:VTIMEZONE
BEGIN:VEVENT
DTSTART;TZID=America/Chicago:20250314T120000
DTEND;TZID=America/Chicago:20250314T130000
DTSTAMP:20260420T081834
CREATED:20250217T152026Z
LAST-MODIFIED:20250311T125838Z
UID:1176-1741953600-1741957200@athenslaunchbox.com
SUMMARY:ScaleUP Workshop: Employee Retention w/ Rocket City HR Consulting
DESCRIPTION:Join Rocket City HR Consulting for an insightful Lunch & Learn on Employee Retention. With March being Employee Appreciation Month\, this workshop will explore effective strategies to keep your team engaged\, motivated\, and committed to your organization. \nThis session is ideal for business owners\, managers\, and HR professionals looking to strengthen their workforce and improve retention. Lunch will be provided. Don’t miss this opportunity to invest in your team. Secure your seat now!
URL:https://athenslaunchbox.com/event/lunch-learn-employee-retention-w-rocket-city-hr-consulting/
LOCATION:LaunchBox\, 121 South Marion St.\, Athens\, AL\, 35611\, United States
CATEGORIES:ScaleUP
END:VEVENT
END:VCALENDAR