BEGIN:VCALENDAR
VERSION:2.0
PRODID:-//LaunchBox - ECPv6.15.20//NONSGML v1.0//EN
CALSCALE:GREGORIAN
METHOD:PUBLISH
X-WR-CALNAME:LaunchBox
X-ORIGINAL-URL:https://athenslaunchbox.com
X-WR-CALDESC:Events for LaunchBox
REFRESH-INTERVAL;VALUE=DURATION:PT1H
X-Robots-Tag:noindex
X-PUBLISHED-TTL:PT1H
BEGIN:VTIMEZONE
TZID:America/Chicago
BEGIN:DAYLIGHT
TZOFFSETFROM:-0600
TZOFFSETTO:-0500
TZNAME:CDT
DTSTART:20240310T080000
END:DAYLIGHT
BEGIN:STANDARD
TZOFFSETFROM:-0500
TZOFFSETTO:-0600
TZNAME:CST
DTSTART:20241103T070000
END:STANDARD
BEGIN:DAYLIGHT
TZOFFSETFROM:-0600
TZOFFSETTO:-0500
TZNAME:CDT
DTSTART:20250309T080000
END:DAYLIGHT
BEGIN:STANDARD
TZOFFSETFROM:-0500
TZOFFSETTO:-0600
TZNAME:CST
DTSTART:20251102T070000
END:STANDARD
BEGIN:DAYLIGHT
TZOFFSETFROM:-0600
TZOFFSETTO:-0500
TZNAME:CDT
DTSTART:20260308T080000
END:DAYLIGHT
BEGIN:STANDARD
TZOFFSETFROM:-0500
TZOFFSETTO:-0600
TZNAME:CST
DTSTART:20261101T070000
END:STANDARD
END:VTIMEZONE
BEGIN:VEVENT
DTSTART;TZID=America/Chicago:20250226T113000
DTEND;TZID=America/Chicago:20250226T123000
DTSTAMP:20260420T081834
CREATED:20250122T164213Z
LAST-MODIFIED:20250219T194159Z
UID:1123-1740569400-1740573000@athenslaunchbox.com
SUMMARY:NASHRM-Limestone Co Chapter February Meeting
DESCRIPTION:Don’t Miss February’s Meeting!\nMark your calendars for an engaging session with Jamie Brabston\, Director & Legal Counsel at Redstone Government Consulting. Jamie will share an in-depth overview of the new Federal Administration\, providing valuable perspectives for HR leaders navigating policy changes. \n🗓 Date: Wednesday\, February 26th \n⏰ Time: 11:30 AM \n📍 Location: LaunchBox at Athens State University\, 121 S Marion St\, Athens\, AL \n✨ Registration Fee: $25 (includes lunch!)\, Register Here \nJoin us as we continue to learn\, grow\, and support our HR community in Limestone County. Secure your spot today!
URL:https://athenslaunchbox.com/event/nashrm-limestone-co-chapter-february-meeting/
LOCATION:LaunchBox\, 121 South Marion St.\, Athens\, AL\, 35611\, United States
CATEGORIES:ScaleUP
END:VEVENT
END:VCALENDAR