BEGIN:VCALENDAR
VERSION:2.0
PRODID:-//LaunchBox - ECPv6.15.20//NONSGML v1.0//EN
CALSCALE:GREGORIAN
METHOD:PUBLISH
X-ORIGINAL-URL:https://athenslaunchbox.com
X-WR-CALDESC:Events for LaunchBox
REFRESH-INTERVAL;VALUE=DURATION:PT1H
X-Robots-Tag:noindex
X-PUBLISHED-TTL:PT1H
BEGIN:VTIMEZONE
TZID:America/Chicago
BEGIN:DAYLIGHT
TZOFFSETFROM:-0600
TZOFFSETTO:-0500
TZNAME:CDT
DTSTART:20240310T080000
END:DAYLIGHT
BEGIN:STANDARD
TZOFFSETFROM:-0500
TZOFFSETTO:-0600
TZNAME:CST
DTSTART:20241103T070000
END:STANDARD
BEGIN:DAYLIGHT
TZOFFSETFROM:-0600
TZOFFSETTO:-0500
TZNAME:CDT
DTSTART:20250309T080000
END:DAYLIGHT
BEGIN:STANDARD
TZOFFSETFROM:-0500
TZOFFSETTO:-0600
TZNAME:CST
DTSTART:20251102T070000
END:STANDARD
BEGIN:DAYLIGHT
TZOFFSETFROM:-0600
TZOFFSETTO:-0500
TZNAME:CDT
DTSTART:20260308T080000
END:DAYLIGHT
BEGIN:STANDARD
TZOFFSETFROM:-0500
TZOFFSETTO:-0600
TZNAME:CST
DTSTART:20261101T070000
END:STANDARD
END:VTIMEZONE
BEGIN:VEVENT
DTSTART;TZID=America/Chicago:20250213T180000
DTEND;TZID=America/Chicago:20250213T200000
DTSTAMP:20260420T095740
CREATED:20250116T165916Z
LAST-MODIFIED:20250116T181807Z
UID:1086-1739469600-1739476800@athenslaunchbox.com
SUMMARY:RampUP Workshop Series - Business Plan Essentials
DESCRIPTION:Discover how to create a powerful business plan that clearly defines your vision\, strategy\, and path to success. This workshop will guide you step-by-step in building a roadmap to achieve your goals and attract potential investors or partners. Perfect for entrepreneurs at any stage! Ready to RampUP? Register Now! 
URL:https://athenslaunchbox.com/event/rampup-workshop-series-business-plan-essentials/
LOCATION:LaunchBox\, 121 South Marion St.\, Athens\, AL\, 35611\, United States
CATEGORIES:RampUP
END:VEVENT
BEGIN:VEVENT
DTSTART;TZID=America/Chicago:20250220T180000
DTEND;TZID=America/Chicago:20250220T200000
DTSTAMP:20260420T095740
CREATED:20250116T170207Z
LAST-MODIFIED:20250116T181828Z
UID:1091-1740074400-1740081600@athenslaunchbox.com
SUMMARY:RampUP Workshop Series - Market Research
DESCRIPTION:Learn effective techniques to identify market opportunities\, understand your target audience\, and gain a competitive edge. This workshop will equip you with the tools to make informed business decisions and stay ahead in your industry. Ready to RampUP? Register Now! 
URL:https://athenslaunchbox.com/event/rampup-workshop-series-market-research/
LOCATION:LaunchBox\, 121 South Marion St.\, Athens\, AL\, 35611\, United States
CATEGORIES:RampUP
END:VEVENT
BEGIN:VEVENT
DTSTART;TZID=America/Chicago:20250227T180000
DTEND;TZID=America/Chicago:20250227T200000
DTSTAMP:20260420T095740
CREATED:20250116T170420Z
LAST-MODIFIED:20250116T181848Z
UID:1095-1740679200-1740686400@athenslaunchbox.com
SUMMARY:RampUP Workshop Series - Business Finance
DESCRIPTION:Build a strong foundation in financial management with this workshop. Learn essential skills like budgeting\, forecasting\, and making informed financial decisions to ensure the success and growth of your business. Perfect for entrepreneurs looking to strengthen their financial acumen! Ready to RampUP? Register Now! 
URL:https://athenslaunchbox.com/event/rampup-workshop-series-business-finance/
LOCATION:LaunchBox\, 121 South Marion St.\, Athens\, AL\, 35611\, United States
CATEGORIES:RampUP
END:VEVENT
END:VCALENDAR