BEGIN:VCALENDAR
VERSION:2.0
PRODID:-//LaunchBox - ECPv6.15.20//NONSGML v1.0//EN
CALSCALE:GREGORIAN
METHOD:PUBLISH
X-WR-CALNAME:LaunchBox
X-ORIGINAL-URL:https://athenslaunchbox.com
X-WR-CALDESC:Events for LaunchBox
REFRESH-INTERVAL;VALUE=DURATION:PT1H
X-Robots-Tag:noindex
X-PUBLISHED-TTL:PT1H
BEGIN:VTIMEZONE
TZID:America/Chicago
BEGIN:DAYLIGHT
TZOFFSETFROM:-0600
TZOFFSETTO:-0500
TZNAME:CDT
DTSTART:20250309T080000
END:DAYLIGHT
BEGIN:STANDARD
TZOFFSETFROM:-0500
TZOFFSETTO:-0600
TZNAME:CST
DTSTART:20251102T070000
END:STANDARD
BEGIN:DAYLIGHT
TZOFFSETFROM:-0600
TZOFFSETTO:-0500
TZNAME:CDT
DTSTART:20260308T080000
END:DAYLIGHT
BEGIN:STANDARD
TZOFFSETFROM:-0500
TZOFFSETTO:-0600
TZNAME:CST
DTSTART:20261101T070000
END:STANDARD
BEGIN:DAYLIGHT
TZOFFSETFROM:-0600
TZOFFSETTO:-0500
TZNAME:CDT
DTSTART:20270314T080000
END:DAYLIGHT
BEGIN:STANDARD
TZOFFSETFROM:-0500
TZOFFSETTO:-0600
TZNAME:CST
DTSTART:20271107T070000
END:STANDARD
END:VTIMEZONE
BEGIN:VEVENT
DTSTART;TZID=America/Chicago:20260401T090000
DTEND;TZID=America/Chicago:20260401T100000
DTSTAMP:20260420T002756
CREATED:20260224T144405Z
LAST-MODIFIED:20260224T144405Z
UID:1641-1775034000-1775037600@athenslaunchbox.com
SUMMARY:Breakfast & Biz
DESCRIPTION:Breakfast & Biz is a structured networking and contact-building event that is designed to give attendees an opportunity to meet and share their business with fellow Chamber Members. \nAttendees are invited to network at a table of 6 people depending on the total of attendees. Each person will have the opportunity to give a one-minute pitch about their business or nonprofit\, and then move around the room to the next table and start the process over again until the entire room has had an opportunity to meet everyone attending the event. \nBRING PLENTY OF BUSINESS CARDS. Secure your seat here: https://business.alcchamber.org/events  \n 
URL:https://athenslaunchbox.com/event/breakfast-biz-9/
LOCATION:LaunchBox\, 121 South Marion St.\, Athens\, AL\, 35611\, United States
CATEGORIES:Breakfast & Biz
END:VEVENT
END:VCALENDAR