BEGIN:VCALENDAR
VERSION:2.0
PRODID:-//LaunchBox - ECPv6.15.20//NONSGML v1.0//EN
CALSCALE:GREGORIAN
METHOD:PUBLISH
X-WR-CALNAME:LaunchBox
X-ORIGINAL-URL:https://athenslaunchbox.com
X-WR-CALDESC:Events for LaunchBox
REFRESH-INTERVAL;VALUE=DURATION:PT1H
X-Robots-Tag:noindex
X-PUBLISHED-TTL:PT1H
BEGIN:VTIMEZONE
TZID:America/Chicago
BEGIN:DAYLIGHT
TZOFFSETFROM:-0600
TZOFFSETTO:-0500
TZNAME:CDT
DTSTART:20240310T080000
END:DAYLIGHT
BEGIN:STANDARD
TZOFFSETFROM:-0500
TZOFFSETTO:-0600
TZNAME:CST
DTSTART:20241103T070000
END:STANDARD
BEGIN:DAYLIGHT
TZOFFSETFROM:-0600
TZOFFSETTO:-0500
TZNAME:CDT
DTSTART:20250309T080000
END:DAYLIGHT
BEGIN:STANDARD
TZOFFSETFROM:-0500
TZOFFSETTO:-0600
TZNAME:CST
DTSTART:20251102T070000
END:STANDARD
BEGIN:DAYLIGHT
TZOFFSETFROM:-0600
TZOFFSETTO:-0500
TZNAME:CDT
DTSTART:20260308T080000
END:DAYLIGHT
BEGIN:STANDARD
TZOFFSETFROM:-0500
TZOFFSETTO:-0600
TZNAME:CST
DTSTART:20261101T070000
END:STANDARD
END:VTIMEZONE
BEGIN:VEVENT
DTSTART;TZID=America/Chicago:20251026T140000
DTEND;TZID=America/Chicago:20251026T163000
DTSTAMP:20260421T114926
CREATED:20250926T161837Z
LAST-MODIFIED:20250926T161957Z
UID:1460-1761487200-1761496200@athenslaunchbox.com
SUMMARY:Alumni Affairs Cigar Box Guitar Class
DESCRIPTION:Build Your Very Own Cigar Box Guitar & Learn How to Play It! \nPlaying guitar is easy when it’s with a three-string cigar box guitar! In this class\, you will build a three-string cigar box guitar and then learn how to play it. Brought to you by The Cigar Box Guitar Store in Huntsville\, you’ll be guided step-by-step through the building process. Don’t worry—this E-Z Build Kit goes together with just a screwdriver. No woodworking experience or safety glasses required! Once the guitars are complete\, the instructor teaches you how to play. No music knowledge needed—just 1 finger and count to 4. Yes\, it really is that easy! \nCost: $185 per person\, includes a 3-string cigar box guitar you keep \nRegister by: Sunday\, October 12 \nContact: alumni@athens.edu and 256-233-8114 \nLearn More: \nCigar Box Guitar Class
URL:https://athenslaunchbox.com/events/cigar-box-guitar-class/
LOCATION:LaunchBox\, 121 South Marion St.\, Athens\, AL\, 35611\, United States
END:VEVENT
END:VCALENDAR