BEGIN:VCALENDAR
VERSION:2.0
PRODID:-//LaunchBox - ECPv6.15.20//NONSGML v1.0//EN
CALSCALE:GREGORIAN
METHOD:PUBLISH
X-ORIGINAL-URL:https://athenslaunchbox.com
X-WR-CALDESC:Events for LaunchBox
REFRESH-INTERVAL;VALUE=DURATION:PT1H
X-Robots-Tag:noindex
X-PUBLISHED-TTL:PT1H
BEGIN:VTIMEZONE
TZID:America/Chicago
BEGIN:DAYLIGHT
TZOFFSETFROM:-0600
TZOFFSETTO:-0500
TZNAME:CDT
DTSTART:20240310T080000
END:DAYLIGHT
BEGIN:STANDARD
TZOFFSETFROM:-0500
TZOFFSETTO:-0600
TZNAME:CST
DTSTART:20241103T070000
END:STANDARD
BEGIN:DAYLIGHT
TZOFFSETFROM:-0600
TZOFFSETTO:-0500
TZNAME:CDT
DTSTART:20250309T080000
END:DAYLIGHT
BEGIN:STANDARD
TZOFFSETFROM:-0500
TZOFFSETTO:-0600
TZNAME:CST
DTSTART:20251102T070000
END:STANDARD
BEGIN:DAYLIGHT
TZOFFSETFROM:-0600
TZOFFSETTO:-0500
TZNAME:CDT
DTSTART:20260308T080000
END:DAYLIGHT
BEGIN:STANDARD
TZOFFSETFROM:-0500
TZOFFSETTO:-0600
TZNAME:CST
DTSTART:20261101T070000
END:STANDARD
END:VTIMEZONE
BEGIN:VEVENT
DTSTART;TZID=America/Chicago:20250917T113000
DTEND;TZID=America/Chicago:20250917T130000
DTSTAMP:20260421T150800
CREATED:20250826T153827Z
LAST-MODIFIED:20250829T173119Z
UID:1407-1758108600-1758114000@athenslaunchbox.com
SUMMARY:NASHRM-Limestone Co Satellite September Meeting
DESCRIPTION:Join us for a special HR Discussion Panel featuring accomplished leaders who will share strategies to navigate change\, foster development\, and prepare for the future of work. \n \n\nPanelists:\nCierra Johnson-Belser – Workforce Development & DEI Leader\nJason Thrasher – HR Executive & Leadership Mentor\nJennifer Vaden-Washington – Director of HR\, U.S. Space & Rocket Center\n\n\nThis session offers:\n Expert insights on HR transformation\n Learning and development opportunities\n Valuable networking with peers\n\nCost is $25 for members and $25 for non-members. \nRegistrations after the cut-off date may be available on a limited basis.  To be considered\, please contact the VP of Programs to see if seats are available; if so\, you may register and attend.  These registrations will be handled on a first-come\, first-served basis. \nRegister Now 
URL:https://athenslaunchbox.com/events/nashrm-limestone-co-satellite-september-meeting/
LOCATION:LaunchBox\, 121 South Marion St.\, Athens\, AL\, 35611\, United States
CATEGORIES:ScaleUP
END:VEVENT
END:VCALENDAR