BEGIN:VCALENDAR
VERSION:2.0
PRODID:-//LaunchBox - ECPv6.15.20//NONSGML v1.0//EN
CALSCALE:GREGORIAN
METHOD:PUBLISH
X-ORIGINAL-URL:https://athenslaunchbox.com
X-WR-CALDESC:Events for LaunchBox
REFRESH-INTERVAL;VALUE=DURATION:PT1H
X-Robots-Tag:noindex
X-PUBLISHED-TTL:PT1H
BEGIN:VTIMEZONE
TZID:America/Chicago
BEGIN:DAYLIGHT
TZOFFSETFROM:-0600
TZOFFSETTO:-0500
TZNAME:CDT
DTSTART:20240310T080000
END:DAYLIGHT
BEGIN:STANDARD
TZOFFSETFROM:-0500
TZOFFSETTO:-0600
TZNAME:CST
DTSTART:20241103T070000
END:STANDARD
BEGIN:DAYLIGHT
TZOFFSETFROM:-0600
TZOFFSETTO:-0500
TZNAME:CDT
DTSTART:20250309T080000
END:DAYLIGHT
BEGIN:STANDARD
TZOFFSETFROM:-0500
TZOFFSETTO:-0600
TZNAME:CST
DTSTART:20251102T070000
END:STANDARD
BEGIN:DAYLIGHT
TZOFFSETFROM:-0600
TZOFFSETTO:-0500
TZNAME:CDT
DTSTART:20260308T080000
END:DAYLIGHT
BEGIN:STANDARD
TZOFFSETFROM:-0500
TZOFFSETTO:-0600
TZNAME:CST
DTSTART:20261101T070000
END:STANDARD
END:VTIMEZONE
BEGIN:VEVENT
DTSTART;TZID=America/Chicago:20250213T120000
DTEND;TZID=America/Chicago:20250213T130000
DTSTAMP:20260420T081957
CREATED:20241220T185255Z
LAST-MODIFIED:20241220T190914Z
UID:1012-1739448000-1739451600@athenslaunchbox.com
SUMMARY:Workshop: Stories That Stick – Social Media Strategies for Entrepreneurs
DESCRIPTION:Ready to amplify your brand and connect with your audience? Join Blake Williams\, a Limestone County native and communications expert\, for an engaging workshop\, Stories That Stick: Social Media Strategies for Entrepreneurs. \nBlake will guide you through storytelling techniques designed for social media. Learn how to craft compelling narratives that resonate with your audience and spark meaningful engagement. \nWhat You’ll Learn:\n\nProven Techniques to define and share your brand story.\nContent Creation Tips to stand out in the digital crowd.\nCommunity-Building Skills to grow a loyal audience.\n\nWhether you’re a seasoned entrepreneur or just starting out\, this workshop will give you practical tools to turn your social media into a growth engine for your business. \nReserve your spot today\, and let your story be the one that sticks! \nAbout Blake Williams:\n \nBlake brings expertise from his work with the Limestone County Economic Development Association. Named the 2022 Young Professional of the Year by the Alabama Mountain Lakes Tourist Association\, he also earned accolades from the Public Relations Council of Alabama and the Southern Public Relations Federation. As a certified Travel Marketing Professional\, Blake combines industry know-how with a passion for storytelling and community growth. \n  \n  \n 
URL:https://athenslaunchbox.com/event/lunch-learn-workshop-stories-that-stick-social-media-strategies-for-entrepreneurs/
LOCATION:AL
CATEGORIES:ScaleUP
END:VEVENT
BEGIN:VEVENT
DTSTART;TZID=America/Chicago:20250213T180000
DTEND;TZID=America/Chicago:20250213T200000
DTSTAMP:20260420T081957
CREATED:20250116T165916Z
LAST-MODIFIED:20250116T181807Z
UID:1086-1739469600-1739476800@athenslaunchbox.com
SUMMARY:RampUP Workshop Series - Business Plan Essentials
DESCRIPTION:Discover how to create a powerful business plan that clearly defines your vision\, strategy\, and path to success. This workshop will guide you step-by-step in building a roadmap to achieve your goals and attract potential investors or partners. Perfect for entrepreneurs at any stage! Ready to RampUP? Register Now! 
URL:https://athenslaunchbox.com/event/rampup-workshop-series-business-plan-essentials/
LOCATION:LaunchBox\, 121 South Marion St.\, Athens\, AL\, 35611\, United States
CATEGORIES:RampUP
END:VEVENT
END:VCALENDAR