BEGIN:VCALENDAR
VERSION:2.0
PRODID:-//LaunchBox - ECPv6.15.20//NONSGML v1.0//EN
CALSCALE:GREGORIAN
METHOD:PUBLISH
X-ORIGINAL-URL:https://athenslaunchbox.com
X-WR-CALDESC:Events for LaunchBox
REFRESH-INTERVAL;VALUE=DURATION:PT1H
X-Robots-Tag:noindex
X-PUBLISHED-TTL:PT1H
BEGIN:VTIMEZONE
TZID:America/Chicago
BEGIN:DAYLIGHT
TZOFFSETFROM:-0600
TZOFFSETTO:-0500
TZNAME:CDT
DTSTART:20240310T080000
END:DAYLIGHT
BEGIN:STANDARD
TZOFFSETFROM:-0500
TZOFFSETTO:-0600
TZNAME:CST
DTSTART:20241103T070000
END:STANDARD
BEGIN:DAYLIGHT
TZOFFSETFROM:-0600
TZOFFSETTO:-0500
TZNAME:CDT
DTSTART:20250309T080000
END:DAYLIGHT
BEGIN:STANDARD
TZOFFSETFROM:-0500
TZOFFSETTO:-0600
TZNAME:CST
DTSTART:20251102T070000
END:STANDARD
BEGIN:DAYLIGHT
TZOFFSETFROM:-0600
TZOFFSETTO:-0500
TZNAME:CDT
DTSTART:20260308T080000
END:DAYLIGHT
BEGIN:STANDARD
TZOFFSETFROM:-0500
TZOFFSETTO:-0600
TZNAME:CST
DTSTART:20261101T070000
END:STANDARD
END:VTIMEZONE
BEGIN:VEVENT
DTSTART;TZID=America/Chicago:20250115T113000
DTEND;TZID=America/Chicago:20250115T123000
DTSTAMP:20260420T081918
CREATED:20241220T142605Z
LAST-MODIFIED:20241220T142605Z
UID:1005-1736940600-1736944200@athenslaunchbox.com
SUMMARY:NASHRM - Limestone Co Meeting: Mental Health First Aid
DESCRIPTION:Registration ends Jan. 14th\, 2025\nCost is $25 (LUNCH Provided) \nRegistrations after the cut-off date may be available on a limited basis.  To be considered\, please contact the VP of Programs to see if seats are available; if so\, you may register and attend.  These registrations will be handled on a first-come\, first-serve basis. Register here: https://nashrm.org/meet-reg1.php?id=119.
URL:https://athenslaunchbox.com/event/nashrm-limestone-co-meeting-mental-health-first-aid/
LOCATION:LaunchBox\, 121 South Marion St.\, Athens\, AL\, 35611\, United States
END:VEVENT
END:VCALENDAR