BEGIN:VCALENDAR
VERSION:2.0
PRODID:-//LaunchBox - ECPv6.15.20//NONSGML v1.0//EN
CALSCALE:GREGORIAN
METHOD:PUBLISH
X-WR-CALNAME:LaunchBox
X-ORIGINAL-URL:https://athenslaunchbox.com
X-WR-CALDESC:Events for LaunchBox
REFRESH-INTERVAL;VALUE=DURATION:PT1H
X-Robots-Tag:noindex
X-PUBLISHED-TTL:PT1H
BEGIN:VTIMEZONE
TZID:America/Chicago
BEGIN:DAYLIGHT
TZOFFSETFROM:-0600
TZOFFSETTO:-0500
TZNAME:CDT
DTSTART:20230312T080000
END:DAYLIGHT
BEGIN:STANDARD
TZOFFSETFROM:-0500
TZOFFSETTO:-0600
TZNAME:CST
DTSTART:20231105T070000
END:STANDARD
BEGIN:DAYLIGHT
TZOFFSETFROM:-0600
TZOFFSETTO:-0500
TZNAME:CDT
DTSTART:20240310T080000
END:DAYLIGHT
BEGIN:STANDARD
TZOFFSETFROM:-0500
TZOFFSETTO:-0600
TZNAME:CST
DTSTART:20241103T070000
END:STANDARD
BEGIN:DAYLIGHT
TZOFFSETFROM:-0600
TZOFFSETTO:-0500
TZNAME:CDT
DTSTART:20250309T080000
END:DAYLIGHT
BEGIN:STANDARD
TZOFFSETFROM:-0500
TZOFFSETTO:-0600
TZNAME:CST
DTSTART:20251102T070000
END:STANDARD
END:VTIMEZONE
BEGIN:VEVENT
DTSTART;TZID=America/Chicago:20241216T140000
DTEND;TZID=America/Chicago:20241216T150000
DTSTAMP:20260420T095428
CREATED:20241203T201006Z
LAST-MODIFIED:20241203T201006Z
UID:998-1734357600-1734361200@athenslaunchbox.com
SUMMARY:Community Action Partnership: Community Council Meeting
DESCRIPTION:Date: Monday\, December 16\, 2024\nTime: 2:00 pm – 3:00 pm\nSpeaker: Harlan D. Mitchell\, Attorney at Law\nTopic: Estate Planning\nContact: Otisa Williams\, 256-874-6161
URL:https://athenslaunchbox.com/event/community-action-partnership-community-council-meeting/
LOCATION:LaunchBox\, 121 South Marion St.\, Athens\, AL\, 35611\, United States
END:VEVENT
BEGIN:VEVENT
DTSTART;TZID=America/Chicago:20241216T183000
DTEND;TZID=America/Chicago:20241216T203000
DTSTAMP:20260420T095428
CREATED:20241202T155054Z
LAST-MODIFIED:20241202T155054Z
UID:971-1734373800-1734381000@athenslaunchbox.com
SUMMARY:DEIBA Christmas Party & Pop-Up Shop
DESCRIPTION:Enjoy live holiday performances by Zami Mare\, OWAP\, Maclin\, and Quinton DeShun while shopping for clothing\, candles\, jewelry\, T-shirts\, books\, and more from local vendors. Celebrate the season and support small businesses in our community!
URL:https://athenslaunchbox.com/event/deiba-christmas-party-pop-up-shop/
LOCATION:LaunchBox\, 121 South Marion St.\, Athens\, AL\, 35611\, United States
END:VEVENT
END:VCALENDAR