BEGIN:VCALENDAR
VERSION:2.0
PRODID:-//LaunchBox - ECPv6.15.20//NONSGML v1.0//EN
CALSCALE:GREGORIAN
METHOD:PUBLISH
X-ORIGINAL-URL:https://athenslaunchbox.com
X-WR-CALDESC:Events for LaunchBox
REFRESH-INTERVAL;VALUE=DURATION:PT1H
X-Robots-Tag:noindex
X-PUBLISHED-TTL:PT1H
BEGIN:VTIMEZONE
TZID:America/Chicago
BEGIN:DAYLIGHT
TZOFFSETFROM:-0600
TZOFFSETTO:-0500
TZNAME:CDT
DTSTART:20230312T080000
END:DAYLIGHT
BEGIN:STANDARD
TZOFFSETFROM:-0500
TZOFFSETTO:-0600
TZNAME:CST
DTSTART:20231105T070000
END:STANDARD
BEGIN:DAYLIGHT
TZOFFSETFROM:-0600
TZOFFSETTO:-0500
TZNAME:CDT
DTSTART:20240310T080000
END:DAYLIGHT
BEGIN:STANDARD
TZOFFSETFROM:-0500
TZOFFSETTO:-0600
TZNAME:CST
DTSTART:20241103T070000
END:STANDARD
BEGIN:DAYLIGHT
TZOFFSETFROM:-0600
TZOFFSETTO:-0500
TZNAME:CDT
DTSTART:20250309T080000
END:DAYLIGHT
BEGIN:STANDARD
TZOFFSETFROM:-0500
TZOFFSETTO:-0600
TZNAME:CST
DTSTART:20251102T070000
END:STANDARD
END:VTIMEZONE
BEGIN:VEVENT
DTSTART;TZID=America/Chicago:20241121T113000
DTEND;TZID=America/Chicago:20241121T130000
DTSTAMP:20260420T095742
CREATED:20241106T193036Z
LAST-MODIFIED:20241106T193106Z
UID:925-1732188600-1732194000@athenslaunchbox.com
SUMMARY:Lunch & Learn: Canva 101 for Small Businesses
DESCRIPTION:Join us for Canva 101 for Small Businesses – a free\, casual\, and interactive workshop designed to help small business owners make the most of Canva Pro. This session will focus on branding and brand consistency\, led by Carina Farr\, Marketing Director at Ridgeline Construction\, and self-proclaimed Canva Pro. Perfect for beginners or anyone looking to enhance their design skills for business. \nDetails: \n\nDate: November 21\, 2024\nTime: 11:30 a.m. – 1:00 p.m.\nLocation: Athens LaunchBox\, 121 S Marion St\, Athens\, AL 35611\nBring your lunch!\n\nRegister now to reserve your spot! \n 
URL:https://athenslaunchbox.com/event/lunch-learn-canva-101-for-small-businesses/
LOCATION:LaunchBox\, 121 South Marion St.\, Athens\, AL\, 35611\, United States
END:VEVENT
END:VCALENDAR