BEGIN:VCALENDAR
VERSION:2.0
PRODID:-//LaunchBox - ECPv6.15.20//NONSGML v1.0//EN
CALSCALE:GREGORIAN
METHOD:PUBLISH
X-ORIGINAL-URL:https://athenslaunchbox.com
X-WR-CALDESC:Events for LaunchBox
REFRESH-INTERVAL;VALUE=DURATION:PT1H
X-Robots-Tag:noindex
X-PUBLISHED-TTL:PT1H
BEGIN:VTIMEZONE
TZID:America/Chicago
BEGIN:DAYLIGHT
TZOFFSETFROM:-0600
TZOFFSETTO:-0500
TZNAME:CDT
DTSTART:20230312T080000
END:DAYLIGHT
BEGIN:STANDARD
TZOFFSETFROM:-0500
TZOFFSETTO:-0600
TZNAME:CST
DTSTART:20231105T070000
END:STANDARD
BEGIN:DAYLIGHT
TZOFFSETFROM:-0600
TZOFFSETTO:-0500
TZNAME:CDT
DTSTART:20240310T080000
END:DAYLIGHT
BEGIN:STANDARD
TZOFFSETFROM:-0500
TZOFFSETTO:-0600
TZNAME:CST
DTSTART:20241103T070000
END:STANDARD
BEGIN:DAYLIGHT
TZOFFSETFROM:-0600
TZOFFSETTO:-0500
TZNAME:CDT
DTSTART:20250309T080000
END:DAYLIGHT
BEGIN:STANDARD
TZOFFSETFROM:-0500
TZOFFSETTO:-0600
TZNAME:CST
DTSTART:20251102T070000
END:STANDARD
END:VTIMEZONE
BEGIN:VEVENT
DTSTART;TZID=America/Chicago:20241114T103000
DTEND;TZID=America/Chicago:20241114T113000
DTSTAMP:20260420T095818
CREATED:20241021T140554Z
LAST-MODIFIED:20241108T193728Z
UID:890-1731580200-1731583800@athenslaunchbox.com
SUMMARY:Symphony in the City
DESCRIPTION:Join us on November 14th at 10 AM for “Symphony in the City” at LaunchBox\, located on the square in downtown Athens. This exciting event\, presented by the Huntsville Symphony Orchestra\, brings the beauty of classical music to the heart of the city. Enjoy a morning filled with live orchestral performances\, bringing the community together through the power of music. This is a unique opportunity to experience the talents of world-class musicians in a vibrant local setting\, perfect for music lovers of all ages.
URL:https://athenslaunchbox.com/event/symphony-in-the-city/
LOCATION:LaunchBox\, 121 South Marion St.\, Athens\, AL\, 35611\, United States
CATEGORIES:Special Event
END:VEVENT
END:VCALENDAR