BEGIN:VCALENDAR
VERSION:2.0
PRODID:-//LaunchBox - ECPv6.15.20//NONSGML v1.0//EN
CALSCALE:GREGORIAN
METHOD:PUBLISH
X-ORIGINAL-URL:https://athenslaunchbox.com
X-WR-CALDESC:Events for LaunchBox
REFRESH-INTERVAL;VALUE=DURATION:PT1H
X-Robots-Tag:noindex
X-PUBLISHED-TTL:PT1H
BEGIN:VTIMEZONE
TZID:America/Chicago
BEGIN:DAYLIGHT
TZOFFSETFROM:-0600
TZOFFSETTO:-0500
TZNAME:CDT
DTSTART:20230312T080000
END:DAYLIGHT
BEGIN:STANDARD
TZOFFSETFROM:-0500
TZOFFSETTO:-0600
TZNAME:CST
DTSTART:20231105T070000
END:STANDARD
BEGIN:DAYLIGHT
TZOFFSETFROM:-0600
TZOFFSETTO:-0500
TZNAME:CDT
DTSTART:20240310T080000
END:DAYLIGHT
BEGIN:STANDARD
TZOFFSETFROM:-0500
TZOFFSETTO:-0600
TZNAME:CST
DTSTART:20241103T070000
END:STANDARD
BEGIN:DAYLIGHT
TZOFFSETFROM:-0600
TZOFFSETTO:-0500
TZNAME:CDT
DTSTART:20250309T080000
END:DAYLIGHT
BEGIN:STANDARD
TZOFFSETFROM:-0500
TZOFFSETTO:-0600
TZNAME:CST
DTSTART:20251102T070000
END:STANDARD
END:VTIMEZONE
BEGIN:VEVENT
DTSTART;TZID=America/Chicago:20241106T090000
DTEND;TZID=America/Chicago:20241106T100000
DTSTAMP:20260420T095647
CREATED:20241022T145547Z
LAST-MODIFIED:20241022T145547Z
UID:893-1730883600-1730887200@athenslaunchbox.com
SUMMARY:Breakfast & Biz
DESCRIPTION:The Athens-Limestone Chamber of Commerce is excited to host Breakfast & Biz\, a structured networking and contact-building event designed to give Chamber Members the opportunity to meet and share their business with fellow members. \nParticipants will network at tables of six\, depending on attendance\, and each attendee will have one minute to pitch their business or nonprofit. Afterward\, they will rotate to another table to repeat the process\, ensuring they connect with everyone in the room by the end of the event. \nDon’t forget to bring plenty of business cards!
URL:https://athenslaunchbox.com/event/breakfast-biz-3/
LOCATION:LaunchBox\, 121 South Marion St.\, Athens\, AL\, 35611\, United States
CATEGORIES:Breakfast & Biz
END:VEVENT
END:VCALENDAR