BEGIN:VCALENDAR
VERSION:2.0
PRODID:-//LaunchBox - ECPv6.15.20//NONSGML v1.0//EN
CALSCALE:GREGORIAN
METHOD:PUBLISH
X-ORIGINAL-URL:https://athenslaunchbox.com
X-WR-CALDESC:Events for LaunchBox
REFRESH-INTERVAL;VALUE=DURATION:PT1H
X-Robots-Tag:noindex
X-PUBLISHED-TTL:PT1H
BEGIN:VTIMEZONE
TZID:America/Chicago
BEGIN:DAYLIGHT
TZOFFSETFROM:-0600
TZOFFSETTO:-0500
TZNAME:CDT
DTSTART:20230312T080000
END:DAYLIGHT
BEGIN:STANDARD
TZOFFSETFROM:-0500
TZOFFSETTO:-0600
TZNAME:CST
DTSTART:20231105T070000
END:STANDARD
BEGIN:DAYLIGHT
TZOFFSETFROM:-0600
TZOFFSETTO:-0500
TZNAME:CDT
DTSTART:20240310T080000
END:DAYLIGHT
BEGIN:STANDARD
TZOFFSETFROM:-0500
TZOFFSETTO:-0600
TZNAME:CST
DTSTART:20241103T070000
END:STANDARD
BEGIN:DAYLIGHT
TZOFFSETFROM:-0600
TZOFFSETTO:-0500
TZNAME:CDT
DTSTART:20250309T080000
END:DAYLIGHT
BEGIN:STANDARD
TZOFFSETFROM:-0500
TZOFFSETTO:-0600
TZNAME:CST
DTSTART:20251102T070000
END:STANDARD
END:VTIMEZONE
BEGIN:VEVENT
DTSTART;TZID=America/Chicago:20241022T110000
DTEND;TZID=America/Chicago:20241022T120000
DTSTAMP:20260420T081919
CREATED:20240930T205632Z
LAST-MODIFIED:20241002T133629Z
UID:868-1729594800-1729598400@athenslaunchbox.com
SUMMARY:Workshop: Small Business Taxes 101
DESCRIPTION:Join us on October 22nd at 11 AM for Small Business Taxes 101\, a comprehensive workshop designed to help small business owners navigate the complexities of 2024 tax filing requirements. Hosted by Sarah Simpson\, CPA\, from Accounting Solutions\, this session will dive into the essential tax knowledge every small business owner needs to manage their taxes confidently. \nWhether you’re looking for guidance on deductions\, filing tips\, or understanding the latest tax updates\, Sarah brings years of expertise to help you prepare for the upcoming tax season. \nDon’t miss out on this opportunity to gain valuable insights into managing your small business taxes effectively! Reserve your seat now!
URL:https://athenslaunchbox.com/event/small-business-taxes-101/
LOCATION:LaunchBox\, 121 South Marion St.\, Athens\, AL\, 35611\, United States
CATEGORIES:ScaleUP
END:VEVENT
END:VCALENDAR