BEGIN:VCALENDAR
VERSION:2.0
PRODID:-//LaunchBox - ECPv6.15.20//NONSGML v1.0//EN
CALSCALE:GREGORIAN
METHOD:PUBLISH
X-ORIGINAL-URL:https://athenslaunchbox.com
X-WR-CALDESC:Events for LaunchBox
REFRESH-INTERVAL;VALUE=DURATION:PT1H
X-Robots-Tag:noindex
X-PUBLISHED-TTL:PT1H
BEGIN:VTIMEZONE
TZID:America/Chicago
BEGIN:DAYLIGHT
TZOFFSETFROM:-0600
TZOFFSETTO:-0500
TZNAME:CDT
DTSTART:20230312T080000
END:DAYLIGHT
BEGIN:STANDARD
TZOFFSETFROM:-0500
TZOFFSETTO:-0600
TZNAME:CST
DTSTART:20231105T070000
END:STANDARD
BEGIN:DAYLIGHT
TZOFFSETFROM:-0600
TZOFFSETTO:-0500
TZNAME:CDT
DTSTART:20240310T080000
END:DAYLIGHT
BEGIN:STANDARD
TZOFFSETFROM:-0500
TZOFFSETTO:-0600
TZNAME:CST
DTSTART:20241103T070000
END:STANDARD
BEGIN:DAYLIGHT
TZOFFSETFROM:-0600
TZOFFSETTO:-0500
TZNAME:CDT
DTSTART:20250309T080000
END:DAYLIGHT
BEGIN:STANDARD
TZOFFSETFROM:-0500
TZOFFSETTO:-0600
TZNAME:CST
DTSTART:20251102T070000
END:STANDARD
END:VTIMEZONE
BEGIN:VEVENT
DTSTART;TZID=America/Chicago:20241016T110000
DTEND;TZID=America/Chicago:20241016T130000
DTSTAMP:20260420T082112
CREATED:20240919T133426Z
LAST-MODIFIED:20240919T133426Z
UID:847-1729076400-1729083600@athenslaunchbox.com
SUMMARY:Navigating the Future of Work Panel Discussion
DESCRIPTION:Athens State University’s SHRM Student Chapter is hosting a dynamic discussion panel titled “Navigating the Future of Work: Essential Skills and Strategies for Emerging HR Professionals.” Join us on Wednesday\, October 16\, from 11:00 AM – 1:00 PM at LaunchBox (121 S Marion St\, Athens\, AL) for an engaging session filled with learning\, development\, and networking opportunities. \n\n\n\n\n\n\nExpert Panelists:\n\nVan Tenpenny: Advocate for effective labor-management relationships and collaborative workplaces.\nCaitlin Sampson: HR Manager at TriVector Services\, with extensive experience in workforce management.\nJeff Powers: Assistant VP and Chief Human Resources Officer\, sharing insights on both union and non-union workplace dynamics.\n\nThis event is a great opportunity to learn from experienced professionals and enhance your HR career! Register now using this link. \nJoin us via Zoom or attend in person to connect with HR professionals and gain valuable insights into the future of work!
URL:https://athenslaunchbox.com/event/navigating-the-future-of-work-panel-discussion/
LOCATION:AL
CATEGORIES:ScaleUP
END:VEVENT
END:VCALENDAR