BEGIN:VCALENDAR
VERSION:2.0
PRODID:-//LaunchBox - ECPv6.15.20//NONSGML v1.0//EN
CALSCALE:GREGORIAN
METHOD:PUBLISH
X-ORIGINAL-URL:https://athenslaunchbox.com
X-WR-CALDESC:Events for LaunchBox
REFRESH-INTERVAL;VALUE=DURATION:PT1H
X-Robots-Tag:noindex
X-PUBLISHED-TTL:PT1H
BEGIN:VTIMEZONE
TZID:America/Chicago
BEGIN:DAYLIGHT
TZOFFSETFROM:-0600
TZOFFSETTO:-0500
TZNAME:CDT
DTSTART:20230312T080000
END:DAYLIGHT
BEGIN:STANDARD
TZOFFSETFROM:-0500
TZOFFSETTO:-0600
TZNAME:CST
DTSTART:20231105T070000
END:STANDARD
BEGIN:DAYLIGHT
TZOFFSETFROM:-0600
TZOFFSETTO:-0500
TZNAME:CDT
DTSTART:20240310T080000
END:DAYLIGHT
BEGIN:STANDARD
TZOFFSETFROM:-0500
TZOFFSETTO:-0600
TZNAME:CST
DTSTART:20241103T070000
END:STANDARD
BEGIN:DAYLIGHT
TZOFFSETFROM:-0600
TZOFFSETTO:-0500
TZNAME:CDT
DTSTART:20250309T080000
END:DAYLIGHT
BEGIN:STANDARD
TZOFFSETFROM:-0500
TZOFFSETTO:-0600
TZNAME:CST
DTSTART:20251102T070000
END:STANDARD
END:VTIMEZONE
BEGIN:VEVENT
DTSTART;TZID=America/Chicago:20240718T120000
DTEND;TZID=America/Chicago:20240718T133000
DTSTAMP:20260420T130808
CREATED:20240705T212225Z
LAST-MODIFIED:20240709T135422Z
UID:645-1721304000-1721309400@athenslaunchbox.com
SUMMARY:Lunch & Learn: Understanding Credit
DESCRIPTION:  \n \nUnlock the secrets of the credit system in this informative 50-minute class. Whether you’re just starting out or looking to improve your financial health\, “Understanding Credit” will guide you through the essentials of how the credit system works and its impact on your life. Learn how to effectively manage\, build\, and protect your credit with practical strategies and expert insights. \nThis class is perfect for anyone wanting to control their financial future by understanding and improving their credit. Whether new to credit or looking to boost your score\, this session offers valuable insights and practical advice to help you achieve your financial goals. Lunch is provided. Secure your seat now!
URL:https://athenslaunchbox.com/events/creditworkshop/
LOCATION:LaunchBox\, 121 South Marion St.\, Athens\, AL\, 35611\, United States
CATEGORIES:ScaleUP
END:VEVENT
END:VCALENDAR